BEGIN:VCALENDAR
VERSION:2.0
PRODID:-//RIGHTHERE//CALENDARIZE IT V3.2//EN
BEGIN:VEVENT
UID:4124-events@www.kokodaoutdoor.com
DTSTART;VALUE=DATE:20220423
DTEND;VALUE=DATE:20220425
DTSTAMP:20211217T041216Z
SUMMARY:Sunshine Coast Kokoda Challenge
URL:https://www.kokodaoutdoor.com/events/sunshine-coast-kokoda-challenge/
ORGANIZER;CN=Bec Hudson:
END:VEVENT
END:VCALENDAR